BEGIN:VCALENDAR
VERSION:2.0
PRODID:-//Mind Body Soul Vitality - ECPv6.15.18//NONSGML v1.0//EN
CALSCALE:GREGORIAN
METHOD:PUBLISH
X-ORIGINAL-URL:https://mindbodysoulvitality.com
X-WR-CALDESC:Events for Mind Body Soul Vitality
REFRESH-INTERVAL;VALUE=DURATION:PT1H
X-Robots-Tag:noindex
X-PUBLISHED-TTL:PT1H
BEGIN:VTIMEZONE
TZID:America/Chicago
BEGIN:DAYLIGHT
TZOFFSETFROM:-0600
TZOFFSETTO:-0500
TZNAME:CDT
DTSTART:20210314T080000
END:DAYLIGHT
BEGIN:STANDARD
TZOFFSETFROM:-0500
TZOFFSETTO:-0600
TZNAME:CST
DTSTART:20211107T070000
END:STANDARD
BEGIN:DAYLIGHT
TZOFFSETFROM:-0600
TZOFFSETTO:-0500
TZNAME:CDT
DTSTART:20220313T080000
END:DAYLIGHT
BEGIN:STANDARD
TZOFFSETFROM:-0500
TZOFFSETTO:-0600
TZNAME:CST
DTSTART:20221106T070000
END:STANDARD
BEGIN:DAYLIGHT
TZOFFSETFROM:-0600
TZOFFSETTO:-0500
TZNAME:CDT
DTSTART:20230312T080000
END:DAYLIGHT
BEGIN:STANDARD
TZOFFSETFROM:-0500
TZOFFSETTO:-0600
TZNAME:CST
DTSTART:20231105T070000
END:STANDARD
END:VTIMEZONE
BEGIN:VEVENT
DTSTART;TZID=America/Chicago:20220514T100000
DTEND;TZID=America/Chicago:20220514T113000
DTSTAMP:20260424T202024
CREATED:20220114T022649Z
LAST-MODIFIED:20220114T022649Z
UID:1074-1652522400-1652527800@mindbodysoulvitality.com
SUMMARY:Masterclass: Creating Crystal Grids
DESCRIPTION:Individual crystals are incredibly powerful and beneficial\, but sometimes you need more help. When you combine the energy of multiple crystals\, the result is even more powerful.\nCrystal grids work by harmoniously combining the subtle energy of several crystals along with sacred geometry\, numerology and personal intention. The grid focuses your intention to help powerfully and quickly manifest your desires\, goals and intentions.\nJoin us as we present a step-by-step guide to creating a crystal grid and learn how and why grids work. A variety of examples will be shown.
URL:https://mindbodysoulvitality.com/event/masterclass-creating-crystal-grids/
LOCATION:Hazel-Jayne\, 112 E Section Street\, Effingham\, United States
CATEGORIES:Crystal Grids
ATTACH;FMTTYPE=image/jpeg:https://mindbodysoulvitality.com/wp-content/uploads/2021/04/Crystal-Grid-pic.jpg
ORGANIZER;CN="Cindy White":MAILTO:mindbodysoulvitality@yahoo.com
END:VEVENT
END:VCALENDAR