BEGIN:VCALENDAR
VERSION:2.0
PRODID:-//Mind Body Soul Vitality - ECPv6.15.18//NONSGML v1.0//EN
CALSCALE:GREGORIAN
METHOD:PUBLISH
X-WR-CALNAME:Mind Body Soul Vitality
X-ORIGINAL-URL:https://mindbodysoulvitality.com
X-WR-CALDESC:Events for Mind Body Soul Vitality
REFRESH-INTERVAL;VALUE=DURATION:PT1H
X-Robots-Tag:noindex
X-PUBLISHED-TTL:PT1H
BEGIN:VTIMEZONE
TZID:America/Chicago
BEGIN:DAYLIGHT
TZOFFSETFROM:-0600
TZOFFSETTO:-0500
TZNAME:CDT
DTSTART:20200308T080000
END:DAYLIGHT
BEGIN:STANDARD
TZOFFSETFROM:-0500
TZOFFSETTO:-0600
TZNAME:CST
DTSTART:20201101T070000
END:STANDARD
BEGIN:DAYLIGHT
TZOFFSETFROM:-0600
TZOFFSETTO:-0500
TZNAME:CDT
DTSTART:20210314T080000
END:DAYLIGHT
BEGIN:STANDARD
TZOFFSETFROM:-0500
TZOFFSETTO:-0600
TZNAME:CST
DTSTART:20211107T070000
END:STANDARD
BEGIN:DAYLIGHT
TZOFFSETFROM:-0600
TZOFFSETTO:-0500
TZNAME:CDT
DTSTART:20220313T080000
END:DAYLIGHT
BEGIN:STANDARD
TZOFFSETFROM:-0500
TZOFFSETTO:-0600
TZNAME:CST
DTSTART:20221106T070000
END:STANDARD
BEGIN:DAYLIGHT
TZOFFSETFROM:-0600
TZOFFSETTO:-0500
TZNAME:CDT
DTSTART:20230312T080000
END:DAYLIGHT
BEGIN:STANDARD
TZOFFSETFROM:-0500
TZOFFSETTO:-0600
TZNAME:CST
DTSTART:20231105T070000
END:STANDARD
BEGIN:DAYLIGHT
TZOFFSETFROM:-0600
TZOFFSETTO:-0500
TZNAME:CDT
DTSTART:20240310T080000
END:DAYLIGHT
BEGIN:STANDARD
TZOFFSETFROM:-0500
TZOFFSETTO:-0600
TZNAME:CST
DTSTART:20241103T070000
END:STANDARD
END:VTIMEZONE
BEGIN:VEVENT
DTSTART;TZID=America/Chicago:20230218T100000
DTEND;TZID=America/Chicago:20230218T113000
DTSTAMP:20260424T185815
CREATED:20210601T222926Z
LAST-MODIFIED:20230124T022807Z
UID:802-1676714400-1676719800@mindbodysoulvitality.com
SUMMARY:Energy and Your Personal Vibration
DESCRIPTION:Everything is energy! We are surrounded by the Matrix which is a field of energy that underlies all reality. Each of us also has a personal energy field. This energy field holds within it the patterns of the thoughts we think\, the emotions we experience and the actions we take. \nThese energetic patterns are held in our physical bodies and contribute to how we experience reality. Explore the science of vibrational energy and how the human body integrates and discharges energy. Understand how negative unconscious mental programming interferes with a healthy flow of energy in the body and learn simple ways to raise your personal vibration. \nNo previous experience necessary. Appropriate for all levels of understanding. Presented by Cindy White. Call 312.339.6863 to reserve your seat. \nLearning Objectives: During this presentation\, participants will: \n\nExplore how modern scientific findings validate the theories of vibrational energy in humans\nUnderstand how Life Force energy flows into and through the human body\nIdentify the subtle energy fields that surround the human body\nRecognize how negative unconscious programming can interfere with healthy and harmonious energy flow\nLearn practical techniques to raise personal energy vibration
URL:https://mindbodysoulvitality.com/event/energy-and-your-personal-vibration-2/
LOCATION:Akasha Zamora\, 1604 Broadway Avenue\, Mattoon\, IL\, 61938
CATEGORIES:Energy & your Personal Vibration
ATTACH;FMTTYPE=image/jpeg:https://mindbodysoulvitality.com/wp-content/uploads/2021/03/header-image-6.jpg
ORGANIZER;CN="Cindy White":MAILTO:mindbodysoulvitality@yahoo.com
END:VEVENT
BEGIN:VEVENT
DTSTART;TZID=America/Chicago:20220518T180000
DTEND;TZID=America/Chicago:20220518T193000
DTSTAMP:20260424T185815
CREATED:20210826T193706Z
LAST-MODIFIED:20220113T220902Z
UID:944-1652896800-1652902200@mindbodysoulvitality.com
SUMMARY:Energy and Personal Vibration
DESCRIPTION:Everything is energy! We are surrounded by the Matrix which is a field of energy that underlies all reality. Each of us also has a personal energy field. This energy field holds within it the patterns of the thoughts we think\, the emotions we experience and the actions we take. \nThese energetic patterns are held in our physical bodies and contribute to how we experience reality. Explore the science of vibrational energy and how the human body integrates and discharges energy. Understand how negative unconscious mental programming interferes with a healthy flow of energy in the body and learn simple ways to raise your personal vibration. \nNo previous experience necessary. Appropriate for all levels of understanding. Presented by Cindy White. Call 312.339.6863 to reserve your seat. \nLearning Objectives: During this presentation\, participants will: \n\nExplore how modern scientific findings validate the theories of vibrational energy in humans\nUnderstand how Life Force energy flows into and through the human body\nIdentify the subtle energy fields that surround the human body\nRecognize how negative unconscious programming can interfere with healthy and harmonious energy flow\nLearn practical techniques to raise personal energy vibration
URL:https://mindbodysoulvitality.com/event/energy-and-personal-vibration/
LOCATION:Hazel-Jayne\, 112 E Section Street\, Effingham\, United States
CATEGORIES:Energy & your Personal Vibration
ATTACH;FMTTYPE=image/jpeg:https://mindbodysoulvitality.com/wp-content/uploads/2021/03/header-image-6.jpg
ORGANIZER;CN="Cindy White":MAILTO:mindbodysoulvitality@yahoo.com
END:VEVENT
BEGIN:VEVENT
DTSTART;TZID=America/Chicago:20210417T133000
DTEND;TZID=America/Chicago:20210417T150000
DTSTAMP:20260424T185815
CREATED:20210419T164903Z
LAST-MODIFIED:20210419T164903Z
UID:714-1618666200-1618671600@mindbodysoulvitality.com
SUMMARY:Energy and Your Personal Vibration
DESCRIPTION:Everything is energy! Each of us also has a personal energy field. This energy field holds within it the patterns of the thoughts we think\, the emotions we experience and the actions that we take. Explore the science of vibrational energy and how the human body integrates and discharges energy. Understand how negative unconscious mental programming interferes with a healthy flow of energy in the body and learn simple ways to raise your personal vibration. Presented by Cindy White. \n\n\n\n\n\n\nTo register for a workshop Email mindbodysoulvitality@yahoo.com or text 217-549-0798.
URL:https://mindbodysoulvitality.com/event/energy-and-your-personal-vibration/
LOCATION:Lincoln Square Mall\, 201 Lincoln Square\, Urbana\, United States
CATEGORIES:Energy & your Personal Vibration
ATTACH;FMTTYPE=image/jpeg:https://mindbodysoulvitality.com/wp-content/uploads/2021/03/header-image-6.jpg
ORGANIZER;CN="Cindy White":MAILTO:mindbodysoulvitality@yahoo.com
END:VEVENT
END:VCALENDAR