BEGIN:VCALENDAR
VERSION:2.0
PRODID:-//Mind Body Soul Vitality - ECPv6.15.18//NONSGML v1.0//EN
CALSCALE:GREGORIAN
METHOD:PUBLISH
X-WR-CALNAME:Mind Body Soul Vitality
X-ORIGINAL-URL:https://mindbodysoulvitality.com
X-WR-CALDESC:Events for Mind Body Soul Vitality
REFRESH-INTERVAL;VALUE=DURATION:PT1H
X-Robots-Tag:noindex
X-PUBLISHED-TTL:PT1H
BEGIN:VTIMEZONE
TZID:America/Chicago
BEGIN:DAYLIGHT
TZOFFSETFROM:-0600
TZOFFSETTO:-0500
TZNAME:CDT
DTSTART:20220313T080000
END:DAYLIGHT
BEGIN:STANDARD
TZOFFSETFROM:-0500
TZOFFSETTO:-0600
TZNAME:CST
DTSTART:20221106T070000
END:STANDARD
BEGIN:DAYLIGHT
TZOFFSETFROM:-0600
TZOFFSETTO:-0500
TZNAME:CDT
DTSTART:20230312T080000
END:DAYLIGHT
BEGIN:STANDARD
TZOFFSETFROM:-0500
TZOFFSETTO:-0600
TZNAME:CST
DTSTART:20231105T070000
END:STANDARD
BEGIN:DAYLIGHT
TZOFFSETFROM:-0600
TZOFFSETTO:-0500
TZNAME:CDT
DTSTART:20240310T080000
END:DAYLIGHT
BEGIN:STANDARD
TZOFFSETFROM:-0500
TZOFFSETTO:-0600
TZNAME:CST
DTSTART:20241103T070000
END:STANDARD
END:VTIMEZONE
BEGIN:VEVENT
DTSTART;TZID=America/Chicago:20230318T100000
DTEND;TZID=America/Chicago:20230318T113000
DTSTAMP:20260424T172940
CREATED:20210613T165308Z
LAST-MODIFIED:20230124T024056Z
UID:809-1679133600-1679139000@mindbodysoulvitality.com
SUMMARY:Lightworkers\, Starseeds\, Earth Angels . . . Who are they and could you be one too?
DESCRIPTION:A Lightworker is a certain breed of soul. Also known as Earth Angels\, Starseeds\, Indigos and Wayshowers\, these are beings who have\, throughout history\, come to Earth incarnated as humans to enlighten\, guide and teach when needed to advance the collective consciousness. \n At this time there is a literal army of Lightworkers on the planet to assist with the ascension from the 3rd Dimension to the New Earth 5th Dimension. They have come from magnificent places throughout the whole Multiverse to shine light in the world\, raise the vibration of humanity and to be of service. More and more people are waking up every day and many understand that they too are lightworkers and have a mission to accomplish.  \nHowever\, many other souls are not yet aware of who they are and that they too answered the clarion call to assist Earth in the ascension process. If you are drawn to attend this presentation\, you are probably a Lightworker. In every lightworker’s life there comes a time for their journey to start in order for them to become who they truly are. Learn all about these beautiful souls\, the important work they are doing on Earth and discover if you are one too. No previous experience necessary. Appropriate for all levels of understanding. \n Learning Objectives: After this presentation\, participants will be able to: \n\nDefine what a lightworker is\nRecognize common traits of lightworkers\nKnow how to start doing “light work” and embody the soul purpose\nIdentify the different categories of lightworkers\nCharacterize the different groups of starseeds and their stars of origin\nLearn how to identify one’s personal lightworker mission for this lifetime\nPractice mantras\, invocations and decrees to support the ascension process
URL:https://mindbodysoulvitality.com/event/lightworkers-starseeds-earth-angels/
LOCATION:Akasha Zamora\, 1604 Broadway Avenue\, Mattoon\, IL\, 61938
CATEGORIES:Lightworkers Starseeds Earth Angels
ATTACH;FMTTYPE=image/jpeg:https://mindbodysoulvitality.com/wp-content/uploads/2021/04/Energy-pic.jpg
ORGANIZER;CN="Cindy White":MAILTO:mindbodysoulvitality@yahoo.com
END:VEVENT
END:VCALENDAR