BEGIN:VCALENDAR
VERSION:2.0
PRODID:-//Mind Body Soul Vitality - ECPv6.15.18//NONSGML v1.0//EN
CALSCALE:GREGORIAN
METHOD:PUBLISH
X-WR-CALNAME:Mind Body Soul Vitality
X-ORIGINAL-URL:https://mindbodysoulvitality.com
X-WR-CALDESC:Events for Mind Body Soul Vitality
REFRESH-INTERVAL;VALUE=DURATION:PT1H
X-Robots-Tag:noindex
X-PUBLISHED-TTL:PT1H
BEGIN:VTIMEZONE
TZID:America/Chicago
BEGIN:DAYLIGHT
TZOFFSETFROM:-0600
TZOFFSETTO:-0500
TZNAME:CDT
DTSTART:20200308T080000
END:DAYLIGHT
BEGIN:STANDARD
TZOFFSETFROM:-0500
TZOFFSETTO:-0600
TZNAME:CST
DTSTART:20201101T070000
END:STANDARD
BEGIN:DAYLIGHT
TZOFFSETFROM:-0600
TZOFFSETTO:-0500
TZNAME:CDT
DTSTART:20210314T080000
END:DAYLIGHT
BEGIN:STANDARD
TZOFFSETFROM:-0500
TZOFFSETTO:-0600
TZNAME:CST
DTSTART:20211107T070000
END:STANDARD
BEGIN:DAYLIGHT
TZOFFSETFROM:-0600
TZOFFSETTO:-0500
TZNAME:CDT
DTSTART:20220313T080000
END:DAYLIGHT
BEGIN:STANDARD
TZOFFSETFROM:-0500
TZOFFSETTO:-0600
TZNAME:CST
DTSTART:20221106T070000
END:STANDARD
BEGIN:DAYLIGHT
TZOFFSETFROM:-0600
TZOFFSETTO:-0500
TZNAME:CDT
DTSTART:20230312T080000
END:DAYLIGHT
BEGIN:STANDARD
TZOFFSETFROM:-0500
TZOFFSETTO:-0600
TZNAME:CST
DTSTART:20231105T070000
END:STANDARD
BEGIN:DAYLIGHT
TZOFFSETFROM:-0600
TZOFFSETTO:-0500
TZNAME:CDT
DTSTART:20240310T080000
END:DAYLIGHT
BEGIN:STANDARD
TZOFFSETFROM:-0500
TZOFFSETTO:-0600
TZNAME:CST
DTSTART:20241103T070000
END:STANDARD
END:VTIMEZONE
BEGIN:VEVENT
DTSTART;TZID=America/Chicago:20230218T130000
DTEND;TZID=America/Chicago:20230218T143000
DTSTAMP:20260424T173100
CREATED:20210826T195657Z
LAST-MODIFIED:20230124T023721Z
UID:952-1676725200-1676730600@mindbodysoulvitality.com
SUMMARY:Manifesting Magic with the Moon
DESCRIPTION:The Moon is a powerful entity that affects us physically and psychologically. Each phase of the moon’s cycle has its own unique energy that we can tune into to enhance various aspects of our day to day lives. Working with the phases of the moon is a simple\, practical and effective way to manifest your biggest dreams and release the things that you no longer need. Learn to tune into the magic of the lunar cycle each month to set powerful intentions and bring about meaningful change in your life. No previous experience necessary. Appropriate for all levels of understanding.  \nUse the event website to pre-register and pay for this class. \nLearning Objectives: After this presentation\, participants will be able to: \n\nAppreciate the benefits of working with the moon phases\nIdentify the waxing and waning periods of the moon\nUnderstand the significance of each of the 8 phases of the moon\nPractice setting and manifesting intentions while working with the unique energy of each phase of the moon\nPerform simple New and Full Moon rituals and create crystal grids for each
URL:https://mindbodysoulvitality.com/event/manifesting-magic-with-the-moon-3/
LOCATION:Akasha Zamora\, 1604 Broadway Avenue\, Mattoon\, IL\, 61938
CATEGORIES:Manifesting Magic with the Moon
ATTACH;FMTTYPE=image/jpeg:https://mindbodysoulvitality.com/wp-content/uploads/2021/04/Manifesting-Magic-with-the-Moon.jpg
ORGANIZER;CN="Cindy White":MAILTO:mindbodysoulvitality@yahoo.com
END:VEVENT
BEGIN:VEVENT
DTSTART;TZID=America/Chicago:20220423T100000
DTEND;TZID=America/Chicago:20220423T113000
DTSTAMP:20260424T173100
CREATED:20210613T162807Z
LAST-MODIFIED:20220113T215702Z
UID:807-1650708000-1650713400@mindbodysoulvitality.com
SUMMARY:Manifesting Magic with the Moon
DESCRIPTION:The Moon is a powerful entity that affects us physically and psychologically. Each phase of the moon’s cycle has its own unique energy that we can tune into to enhance various aspects of our day to day lives. Working with the phases of the moon is a simple\, practical and effective way to manifest your biggest dreams and release the things that you no longer need. Learn to tune into the magic of the lunar cycle each month to set powerful intentions and bring about meaningful change in your life. No previous experience necessary. Appropriate for all levels of understanding. \nLearning Objectives: After this presentation\, participants will be able to: \n\nAppreciate the benefits of working with the moon phases\nIdentify the waxing and waning periods of the moon\nUnderstand the significance of each of the 8 phases of the moon\nPractice setting and manifesting intentions while working with the unique energy of each phase of the moon\nPerform simple New and Full Moon rituals and create crystal grids for each
URL:https://mindbodysoulvitality.com/event/manifesting-magic-with-the-moon/
LOCATION:Hazel-Jayne\, 112 E Section Street\, Effingham\, United States
CATEGORIES:Manifesting Magic with the Moon
ATTACH;FMTTYPE=image/jpeg:https://mindbodysoulvitality.com/wp-content/uploads/2021/04/Manifesting-Magic-with-the-Moon.jpg
ORGANIZER;CN="Cindy White":MAILTO:mindbodysoulvitality@yahoo.com
END:VEVENT
BEGIN:VEVENT
DTSTART;TZID=America/Chicago:20211204T100000
DTEND;TZID=America/Chicago:20211204T113000
DTSTAMP:20260424T173100
CREATED:20210826T193113Z
LAST-MODIFIED:20210826T193113Z
UID:941-1638612000-1638617400@mindbodysoulvitality.com
SUMMARY:Manifesting Magic with the Moon
DESCRIPTION:The Moon is a powerful entity that affects us physically and psychologically. Each phase of the moon’s cycle has its own unique energy that we can tune into to enhance various aspects of our day to day lives. Working with the phases of the moon is a simple\, practical and effective way to manifest your biggest dreams and release the things that you no longer need. Learn to tune into the magic of the lunar cycle each month to set powerful intentions and bring about meaningful change in your life. No previous experience necessary. Appropriate for all levels of understanding. \nLearning Objectives: After this presentation\, participants will be able to: \n\nAppreciate the benefits of working with the moon phases\nIdentify the waxing and waning periods of the moon\nUnderstand the significance of each of the 8 phases of the moon\nPractice setting and manifesting intentions while working with the unique energy of each phase of the moon\nPerform simple New and Full Moon rituals and create crystal grids for each
URL:https://mindbodysoulvitality.com/event/manifesting-magic-with-the-moon-2/
LOCATION:Hazel-Jayne\, 112 E Section Street\, Effingham\, United States
CATEGORIES:Manifesting Magic with the Moon
ATTACH;FMTTYPE=image/jpeg:https://mindbodysoulvitality.com/wp-content/uploads/2021/04/Manifesting-Magic-with-the-Moon.jpg
ORGANIZER;CN="Cindy White":MAILTO:mindbodysoulvitality@yahoo.com
END:VEVENT
END:VCALENDAR