BEGIN:VCALENDAR
VERSION:2.0
PRODID:-//Mind Body Soul Vitality - ECPv6.15.18//NONSGML v1.0//EN
CALSCALE:GREGORIAN
METHOD:PUBLISH
X-WR-CALNAME:Mind Body Soul Vitality
X-ORIGINAL-URL:https://mindbodysoulvitality.com
X-WR-CALDESC:Events for Mind Body Soul Vitality
REFRESH-INTERVAL;VALUE=DURATION:PT1H
X-Robots-Tag:noindex
X-PUBLISHED-TTL:PT1H
BEGIN:VTIMEZONE
TZID:America/Chicago
BEGIN:DAYLIGHT
TZOFFSETFROM:-0600
TZOFFSETTO:-0500
TZNAME:CDT
DTSTART:20210314T080000
END:DAYLIGHT
BEGIN:STANDARD
TZOFFSETFROM:-0500
TZOFFSETTO:-0600
TZNAME:CST
DTSTART:20211107T070000
END:STANDARD
BEGIN:DAYLIGHT
TZOFFSETFROM:-0600
TZOFFSETTO:-0500
TZNAME:CDT
DTSTART:20220313T080000
END:DAYLIGHT
BEGIN:STANDARD
TZOFFSETFROM:-0500
TZOFFSETTO:-0600
TZNAME:CST
DTSTART:20221106T070000
END:STANDARD
BEGIN:DAYLIGHT
TZOFFSETFROM:-0600
TZOFFSETTO:-0500
TZNAME:CDT
DTSTART:20230312T080000
END:DAYLIGHT
BEGIN:STANDARD
TZOFFSETFROM:-0500
TZOFFSETTO:-0600
TZNAME:CST
DTSTART:20231105T070000
END:STANDARD
END:VTIMEZONE
BEGIN:VEVENT
DTSTART;TZID=America/Chicago:20220312T100000
DTEND;TZID=America/Chicago:20220312T113000
DTSTAMP:20260424T172140
CREATED:20210613T171413Z
LAST-MODIFIED:20220114T023713Z
UID:813-1647079200-1647084600@mindbodysoulvitality.com
SUMMARY:Navigating the Shift to the 5th Dimension (5D)
DESCRIPTION:During the Cosmic Moment on December 21 2012\, our planet and everyone living on it underwent a massive energetic shift and began what is known as the Ascension Process. Through this process we will all raise our frequencies and transcend our current way of living. This great shift in the consciousness of humanity has hit critical mass and passed the point of no return. Earth has completed the transition from the 3rd to the 4th dimension portal and continues to slowly shift upward. The next decade will be a period of enormous change with plenty of chaos and uncertainty. Everyone will be affected by this process and many are experiencing massive changes both internally and externally.  \nThis presentation offers practical advice on how to navigate these extraordinary times and successfully make the shift to the New Earth. No previous experience necessary. Appropriate for all levels of understanding. \nLearning Objectives: After this presentation\, participants will be able to: \n\nDifferentiate the meanings of the terms 3D\, 4D\, and 5D\nUnderstand what the Ascension Process is\nIdentify signs of “waking up”\nRecognize the physical symptoms of the ascension process\nLearn practical techniques to help navigate the energetic shifts\nDescribe where we are on the ascension timeline and explain the current state of the collective energies
URL:https://mindbodysoulvitality.com/event/navigating-the-shift-to-the-5th-dimension-5d/
LOCATION:Hazel-Jayne\, 112 E Section Street\, Effingham\, United States
CATEGORIES:Navigating the Shift to 5D
ATTACH;FMTTYPE=image/jpeg:https://mindbodysoulvitality.com/wp-content/uploads/2021/06/Navigating-Shift-to-5D-image.jpg
ORGANIZER;CN="Cindy White":MAILTO:mindbodysoulvitality@yahoo.com
END:VEVENT
BEGIN:VEVENT
DTSTART;TZID=America/Chicago:20220223T180000
DTEND;TZID=America/Chicago:20220223T193000
DTSTAMP:20260424T172140
CREATED:20220114T023255Z
LAST-MODIFIED:20220114T023255Z
UID:1078-1645639200-1645644600@mindbodysoulvitality.com
SUMMARY:Navigating the Shift to the Fifth Dimension (5D)
DESCRIPTION:During the Cosmic Moment on December 21 2012\, our planet and everyone living on it underwent a massive energetic shift and began what is known as the Ascension Process. Through this process we will all raise our frequencies and transcend our current way of living. This great shift in the consciousness of humanity has hit critical mass and passed the point of no return. Earth has completed the transition from the 3rd to the 4th dimension portal and continues to slowly shift upward. The next decade will be a period of enormous change with plenty of chaos and uncertainty. Everyone will be affected by this process and many are experiencing massive changes both internally and externally.  \nThis presentation offers practical advice on how to navigate these extraordinary times and successfully make the shift to the New Earth. No previous experience necessary. Appropriate for all levels of understanding. \nLearning Objectives: After this presentation\, participants will be able to: \n\nDifferentiate the meanings of the terms 3D\, 4D\, and 5D\nUnderstand what the Ascension Process is\nIdentify signs of “waking up”\nRecognize the physical symptoms of the ascension process\nLearn practical techniques to help navigate the energetic shifts\nDescribe where we are on the ascension timeline and explain the current state of the collective energies
URL:https://mindbodysoulvitality.com/event/navigating-the-shift-to-the-fifth-dimension-5d/
LOCATION:Moksha Center\, 112 S. McLean Street\, Lincoln\, IL\, 62656\, United States
CATEGORIES:Navigating the Shift to 5D
ATTACH;FMTTYPE=image/jpeg:https://mindbodysoulvitality.com/wp-content/uploads/2021/06/Navigating-Shift-to-5D-image.jpg
ORGANIZER;CN="Cindy White":MAILTO:mindbodysoulvitality@yahoo.com
END:VEVENT
END:VCALENDAR