BEGIN:VCALENDAR
VERSION:2.0
PRODID:-//Mind Body Soul Vitality - ECPv6.15.18//NONSGML v1.0//EN
CALSCALE:GREGORIAN
METHOD:PUBLISH
X-ORIGINAL-URL:https://mindbodysoulvitality.com
X-WR-CALDESC:Events for Mind Body Soul Vitality
REFRESH-INTERVAL;VALUE=DURATION:PT1H
X-Robots-Tag:noindex
X-PUBLISHED-TTL:PT1H
BEGIN:VTIMEZONE
TZID:America/Chicago
BEGIN:DAYLIGHT
TZOFFSETFROM:-0600
TZOFFSETTO:-0500
TZNAME:CDT
DTSTART:20210314T080000
END:DAYLIGHT
BEGIN:STANDARD
TZOFFSETFROM:-0500
TZOFFSETTO:-0600
TZNAME:CST
DTSTART:20211107T070000
END:STANDARD
BEGIN:DAYLIGHT
TZOFFSETFROM:-0600
TZOFFSETTO:-0500
TZNAME:CDT
DTSTART:20220313T080000
END:DAYLIGHT
BEGIN:STANDARD
TZOFFSETFROM:-0500
TZOFFSETTO:-0600
TZNAME:CST
DTSTART:20221106T070000
END:STANDARD
BEGIN:DAYLIGHT
TZOFFSETFROM:-0600
TZOFFSETTO:-0500
TZNAME:CDT
DTSTART:20230312T080000
END:DAYLIGHT
BEGIN:STANDARD
TZOFFSETFROM:-0500
TZOFFSETTO:-0600
TZNAME:CST
DTSTART:20231105T070000
END:STANDARD
END:VTIMEZONE
BEGIN:VEVENT
DTSTART;TZID=America/Chicago:20220528T100000
DTEND;TZID=America/Chicago:20220528T113000
DTSTAMP:20260424T201944
CREATED:20210613T172421Z
LAST-MODIFIED:20220114T023834Z
UID:815-1653732000-1653737400@mindbodysoulvitality.com
SUMMARY:Activating Your 5D Chakras
DESCRIPTION:For thousands of years humans have functioned with 7 major chakras that vibrated at the lower third dimensional level. During the Cosmic Moment on December 21\, 2012\, we all underwent a massive energetic shift and began what is known as the Ascension process. When this shift happened\, the frequency of our chakras and energetic fields also shifted and we received the goldprint for the higher frequency 5D Chakra Column. We now have 15 major chakras that have been activated to the frequencies of the fifth dimension and our energetic fields have greatly expanded. Learn how you can align yourself with the higher energies to step into your personal power.  \nNo previous experience necessary. Appropriate for all levels of understanding. \nLearning Objectives: After this presentation\, participants will be able to: \n\nDifferentiate the meanings of the terms 3D\, 4D\, and 5D\nUnderstand what the Ascension Process is\nIdentify the 15 energy centers of the new 5D system\nLearn which crystals and archangels support each chakra\nPractice mantras\, invocations and techniques to activate the chakras
URL:https://mindbodysoulvitality.com/event/the-new-5d-chakra-system-explained/
LOCATION:Hazel-Jayne\, 112 E Section Street\, Effingham\, United States
CATEGORIES:New 5D Chakra System
ATTACH;FMTTYPE=image/jpeg:https://mindbodysoulvitality.com/wp-content/uploads/2021/04/Chakra.jpg
ORGANIZER;CN="Cindy White":MAILTO:mindbodysoulvitality@yahoo.com
END:VEVENT
END:VCALENDAR